BEGIN:VCALENDAR
VERSION:2.0
PRODID:-//Wellington Academy - ECPv6.15.20//NONSGML v1.0//EN
CALSCALE:GREGORIAN
METHOD:PUBLISH
X-WR-CALNAME:Wellington Academy
X-ORIGINAL-URL:https://www.wellingtonacademyschools.com
X-WR-CALDESC:Events for Wellington Academy
REFRESH-INTERVAL;VALUE=DURATION:PT1H
X-Robots-Tag:noindex
X-PUBLISHED-TTL:PT1H
BEGIN:VTIMEZONE
TZID:America/New_York
BEGIN:DAYLIGHT
TZOFFSETFROM:-0500
TZOFFSETTO:-0400
TZNAME:EDT
DTSTART:20190310T070000
END:DAYLIGHT
BEGIN:STANDARD
TZOFFSETFROM:-0400
TZOFFSETTO:-0500
TZNAME:EST
DTSTART:20191103T060000
END:STANDARD
BEGIN:DAYLIGHT
TZOFFSETFROM:-0500
TZOFFSETTO:-0400
TZNAME:EDT
DTSTART:20200308T070000
END:DAYLIGHT
BEGIN:STANDARD
TZOFFSETFROM:-0400
TZOFFSETTO:-0500
TZNAME:EST
DTSTART:20201101T060000
END:STANDARD
BEGIN:DAYLIGHT
TZOFFSETFROM:-0500
TZOFFSETTO:-0400
TZNAME:EDT
DTSTART:20210314T070000
END:DAYLIGHT
BEGIN:STANDARD
TZOFFSETFROM:-0400
TZOFFSETTO:-0500
TZNAME:EST
DTSTART:20211107T060000
END:STANDARD
END:VTIMEZONE
BEGIN:VEVENT
DTSTART;TZID=America/New_York:20201102T080000
DTEND;TZID=America/New_York:20201118T170000
DTSTAMP:20260423T164423
CREATED:20200716T153457Z
LAST-MODIFIED:20200716T154637Z
UID:7331-1604304000-1605718800@www.wellingtonacademyschools.com
SUMMARY:Canned Food Drive
DESCRIPTION:
URL:https://www.wellingtonacademyschools.com/event/canned-food-drive-11/
CATEGORIES:Fort Myers
END:VEVENT
BEGIN:VEVENT
DTSTART;TZID=America/New_York:20201123T080000
DTEND;TZID=America/New_York:20201127T170000
DTSTAMP:20260423T164423
CREATED:20200716T153559Z
LAST-MODIFIED:20200716T153559Z
UID:7333-1606118400-1606496400@www.wellingtonacademyschools.com
SUMMARY:NO VPK - Thanksgiving Break
DESCRIPTION:
URL:https://www.wellingtonacademyschools.com/event/no-vpk-thanksgiving-break-6/
CATEGORIES:Fort Myers
END:VEVENT
BEGIN:VEVENT
DTSTART;TZID=America/New_York:20201126T080000
DTEND;TZID=America/New_York:20201127T170000
DTSTAMP:20260423T164423
CREATED:20200715T184004Z
LAST-MODIFIED:20200715T192316Z
UID:7242-1606377600-1606496400@www.wellingtonacademyschools.com
SUMMARY:Thanksgiving Break - Wellington Closed
DESCRIPTION:
URL:https://www.wellingtonacademyschools.com/event/thanksgiving-break-wellington-closed-2/
CATEGORIES:Clermont,Fort Myers,North Cape Coral,Palm Bay,South Cape Coral
END:VEVENT
BEGIN:VEVENT
DTSTART;TZID=America/New_York:20201130T080000
DTEND;TZID=America/New_York:20201215T170000
DTSTAMP:20260423T164423
CREATED:20200716T153646Z
LAST-MODIFIED:20200716T153646Z
UID:7335-1606723200-1608051600@www.wellingtonacademyschools.com
SUMMARY:Toy Drive
DESCRIPTION:
URL:https://www.wellingtonacademyschools.com/event/toy-drive-6/
CATEGORIES:Fort Myers
END:VEVENT
END:VCALENDAR