BEGIN:VCALENDAR
VERSION:2.0
PRODID:-//Wellington Academy - ECPv6.15.20//NONSGML v1.0//EN
CALSCALE:GREGORIAN
METHOD:PUBLISH
X-WR-CALNAME:Wellington Academy
X-ORIGINAL-URL:https://www.wellingtonacademyschools.com
X-WR-CALDESC:Events for Wellington Academy
REFRESH-INTERVAL;VALUE=DURATION:PT1H
X-Robots-Tag:noindex
X-PUBLISHED-TTL:PT1H
BEGIN:VTIMEZONE
TZID:America/New_York
BEGIN:DAYLIGHT
TZOFFSETFROM:-0500
TZOFFSETTO:-0400
TZNAME:EDT
DTSTART:20190310T070000
END:DAYLIGHT
BEGIN:STANDARD
TZOFFSETFROM:-0400
TZOFFSETTO:-0500
TZNAME:EST
DTSTART:20191103T060000
END:STANDARD
BEGIN:DAYLIGHT
TZOFFSETFROM:-0500
TZOFFSETTO:-0400
TZNAME:EDT
DTSTART:20200308T070000
END:DAYLIGHT
BEGIN:STANDARD
TZOFFSETFROM:-0400
TZOFFSETTO:-0500
TZNAME:EST
DTSTART:20201101T060000
END:STANDARD
BEGIN:DAYLIGHT
TZOFFSETFROM:-0500
TZOFFSETTO:-0400
TZNAME:EDT
DTSTART:20210314T070000
END:DAYLIGHT
BEGIN:STANDARD
TZOFFSETFROM:-0400
TZOFFSETTO:-0500
TZNAME:EST
DTSTART:20211107T060000
END:STANDARD
BEGIN:DAYLIGHT
TZOFFSETFROM:-0500
TZOFFSETTO:-0400
TZNAME:EDT
DTSTART:20220313T070000
END:DAYLIGHT
BEGIN:STANDARD
TZOFFSETFROM:-0400
TZOFFSETTO:-0500
TZNAME:EST
DTSTART:20221106T060000
END:STANDARD
END:VTIMEZONE
BEGIN:VEVENT
DTSTART;TZID=America/New_York:20201221T080000
DTEND;TZID=America/New_York:20210105T170000
DTSTAMP:20260423T133317
CREATED:20200716T154129Z
LAST-MODIFIED:20200716T154129Z
UID:7348-1608537600-1609866000@www.wellingtonacademyschools.com
SUMMARY:NO VPK - Winter Break
DESCRIPTION:
URL:https://www.wellingtonacademyschools.com/event/no-vpk-winter-break-13/
CATEGORIES:Fort Myers
END:VEVENT
BEGIN:VEVENT
DTSTART;TZID=America/New_York:20210101T080000
DTEND;TZID=America/New_York:20210101T170000
DTSTAMP:20260423T133317
CREATED:20200715T184603Z
LAST-MODIFIED:20200715T192416Z
UID:7254-1609488000-1609520400@www.wellingtonacademyschools.com
SUMMARY:New Years Day - Wellington Closed
DESCRIPTION:
URL:https://www.wellingtonacademyschools.com/event/new-years-day-wellington-closed/
CATEGORIES:Clermont,Fort Myers,North Cape Coral,Palm Bay,South Cape Coral
END:VEVENT
BEGIN:VEVENT
DTSTART;TZID=America/New_York:20210115T080000
DTEND;TZID=America/New_York:20210115T170000
DTSTAMP:20260423T133317
CREATED:20200716T170329Z
LAST-MODIFIED:20200716T170329Z
UID:7358-1610697600-1610730000@www.wellingtonacademyschools.com
SUMMARY:Parent Appreciation Day
DESCRIPTION:
URL:https://www.wellingtonacademyschools.com/event/parent-appreciation-day-10/
CATEGORIES:Fort Myers
END:VEVENT
BEGIN:VEVENT
DTSTART;TZID=America/New_York:20210118T080000
DTEND;TZID=America/New_York:20210118T170000
DTSTAMP:20260423T133317
CREATED:20200716T170414Z
LAST-MODIFIED:20200716T170441Z
UID:7360-1610956800-1610989200@www.wellingtonacademyschools.com
SUMMARY:Teacher In Service Day - Wellington Closed
DESCRIPTION:
URL:https://www.wellingtonacademyschools.com/event/teacher-in-service-day-wellington-closed-8/
CATEGORIES:Fort Myers
END:VEVENT
END:VCALENDAR