BEGIN:VCALENDAR
VERSION:2.0
PRODID:-//Wellington Academy - ECPv6.15.20//NONSGML v1.0//EN
CALSCALE:GREGORIAN
METHOD:PUBLISH
X-ORIGINAL-URL:https://www.wellingtonacademyschools.com
X-WR-CALDESC:Events for Wellington Academy
REFRESH-INTERVAL;VALUE=DURATION:PT1H
X-Robots-Tag:noindex
X-PUBLISHED-TTL:PT1H
BEGIN:VTIMEZONE
TZID:America/New_York
BEGIN:DAYLIGHT
TZOFFSETFROM:-0500
TZOFFSETTO:-0400
TZNAME:EDT
DTSTART:20200308T070000
END:DAYLIGHT
BEGIN:STANDARD
TZOFFSETFROM:-0400
TZOFFSETTO:-0500
TZNAME:EST
DTSTART:20201101T060000
END:STANDARD
BEGIN:DAYLIGHT
TZOFFSETFROM:-0500
TZOFFSETTO:-0400
TZNAME:EDT
DTSTART:20210314T070000
END:DAYLIGHT
BEGIN:STANDARD
TZOFFSETFROM:-0400
TZOFFSETTO:-0500
TZNAME:EST
DTSTART:20211107T060000
END:STANDARD
BEGIN:DAYLIGHT
TZOFFSETFROM:-0500
TZOFFSETTO:-0400
TZNAME:EDT
DTSTART:20220313T070000
END:DAYLIGHT
BEGIN:STANDARD
TZOFFSETFROM:-0400
TZOFFSETTO:-0500
TZNAME:EST
DTSTART:20221106T060000
END:STANDARD
END:VTIMEZONE
BEGIN:VEVENT
DTSTART;TZID=America/New_York:20210329T080000
DTEND;TZID=America/New_York:20210401T170000
DTSTAMP:20260423T083817
CREATED:20200716T180340Z
LAST-MODIFIED:20200716T183422Z
UID:7374-1617004800-1617296400@www.wellingtonacademyschools.com
SUMMARY:Easter Activities
DESCRIPTION:
URL:https://www.wellingtonacademyschools.com/event/easter-activities-9/
CATEGORIES:Fort Myers
END:VEVENT
BEGIN:VEVENT
DTSTART;TZID=America/New_York:20210401T080000
DTEND;TZID=America/New_York:20210401T170000
DTSTAMP:20260423T083817
CREATED:20200716T180422Z
LAST-MODIFIED:20200716T180422Z
UID:7376-1617264000-1617296400@www.wellingtonacademyschools.com
SUMMARY:Easter Bonnet Parade
DESCRIPTION:
URL:https://www.wellingtonacademyschools.com/event/easter-bonnet-parade-6/
CATEGORIES:Fort Myers
END:VEVENT
BEGIN:VEVENT
DTSTART;TZID=America/New_York:20210402T080000
DTEND;TZID=America/New_York:20210402T170000
DTSTAMP:20260423T083817
CREATED:20200716T180509Z
LAST-MODIFIED:20200716T180509Z
UID:7378-1617350400-1617382800@www.wellingtonacademyschools.com
SUMMARY:Teacher In Service Day - Wellington Closed
DESCRIPTION:
URL:https://www.wellingtonacademyschools.com/event/teacher-in-service-day-wellington-closed-9/
CATEGORIES:Fort Myers
END:VEVENT
BEGIN:VEVENT
DTSTART;TZID=America/New_York:20210404T080000
DTEND;TZID=America/New_York:20210404T170000
DTSTAMP:20260423T083817
CREATED:20200715T192212Z
LAST-MODIFIED:20200715T192212Z
UID:7300-1617523200-1617555600@www.wellingtonacademyschools.com
SUMMARY:Easter
DESCRIPTION:
URL:https://www.wellingtonacademyschools.com/event/easter/
CATEGORIES:Fort Myers,North Cape Coral,Palm Bay,South Cape Coral
END:VEVENT
BEGIN:VEVENT
DTSTART;TZID=America/New_York:20210405T080000
DTEND;TZID=America/New_York:20210405T170000
DTSTAMP:20260423T083817
CREATED:20200716T180548Z
LAST-MODIFIED:20200716T180548Z
UID:7380-1617609600-1617642000@www.wellingtonacademyschools.com
SUMMARY:NO VPK - Easter Monday
DESCRIPTION:
URL:https://www.wellingtonacademyschools.com/event/no-vpk-easter-monday-7/
CATEGORIES:Fort Myers
END:VEVENT
END:VCALENDAR