BEGIN:VCALENDAR
VERSION:2.0
PRODID:-//Wellington Academy - ECPv6.15.20//NONSGML v1.0//EN
CALSCALE:GREGORIAN
METHOD:PUBLISH
X-ORIGINAL-URL:https://www.wellingtonacademyschools.com
X-WR-CALDESC:Events for Wellington Academy
REFRESH-INTERVAL;VALUE=DURATION:PT1H
X-Robots-Tag:noindex
X-PUBLISHED-TTL:PT1H
BEGIN:VTIMEZONE
TZID:America/New_York
BEGIN:DAYLIGHT
TZOFFSETFROM:-0500
TZOFFSETTO:-0400
TZNAME:EDT
DTSTART:20200308T070000
END:DAYLIGHT
BEGIN:STANDARD
TZOFFSETFROM:-0400
TZOFFSETTO:-0500
TZNAME:EST
DTSTART:20201101T060000
END:STANDARD
BEGIN:DAYLIGHT
TZOFFSETFROM:-0500
TZOFFSETTO:-0400
TZNAME:EDT
DTSTART:20210314T070000
END:DAYLIGHT
BEGIN:STANDARD
TZOFFSETFROM:-0400
TZOFFSETTO:-0500
TZNAME:EST
DTSTART:20211107T060000
END:STANDARD
BEGIN:DAYLIGHT
TZOFFSETFROM:-0500
TZOFFSETTO:-0400
TZNAME:EDT
DTSTART:20220313T070000
END:DAYLIGHT
BEGIN:STANDARD
TZOFFSETFROM:-0400
TZOFFSETTO:-0500
TZNAME:EST
DTSTART:20221106T060000
END:STANDARD
END:VTIMEZONE
BEGIN:VEVENT
DTSTART;TZID=America/New_York:20210809T183000
DTEND;TZID=America/New_York:20210809T193000
DTSTAMP:20260423T022746
CREATED:20210720T133832Z
LAST-MODIFIED:20210720T133832Z
UID:7986-1628533800-1628537400@www.wellingtonacademyschools.com
SUMMARY:VPK Open House
DESCRIPTION:
URL:https://www.wellingtonacademyschools.com/event/vpk-open-house-11/
CATEGORIES:Fort Myers
END:VEVENT
BEGIN:VEVENT
DTSTART;TZID=America/New_York:20210810T080000
DTEND;TZID=America/New_York:20210810T170000
DTSTAMP:20260423T022746
CREATED:20210720T133637Z
LAST-MODIFIED:20210720T133637Z
UID:7984-1628582400-1628614800@www.wellingtonacademyschools.com
SUMMARY:First Day of VPK
DESCRIPTION:
URL:https://www.wellingtonacademyschools.com/event/first-day-of-vpk-3/
CATEGORIES:Fort Myers
END:VEVENT
END:VCALENDAR