BEGIN:VCALENDAR
VERSION:2.0
PRODID:-//Wellington Academy - ECPv6.15.20//NONSGML v1.0//EN
CALSCALE:GREGORIAN
METHOD:PUBLISH
X-WR-CALNAME:Wellington Academy
X-ORIGINAL-URL:https://www.wellingtonacademyschools.com
X-WR-CALDESC:Events for Wellington Academy
REFRESH-INTERVAL;VALUE=DURATION:PT1H
X-Robots-Tag:noindex
X-PUBLISHED-TTL:PT1H
BEGIN:VTIMEZONE
TZID:America/New_York
BEGIN:DAYLIGHT
TZOFFSETFROM:-0500
TZOFFSETTO:-0400
TZNAME:EDT
DTSTART:20200308T070000
END:DAYLIGHT
BEGIN:STANDARD
TZOFFSETFROM:-0400
TZOFFSETTO:-0500
TZNAME:EST
DTSTART:20201101T060000
END:STANDARD
BEGIN:DAYLIGHT
TZOFFSETFROM:-0500
TZOFFSETTO:-0400
TZNAME:EDT
DTSTART:20210314T070000
END:DAYLIGHT
BEGIN:STANDARD
TZOFFSETFROM:-0400
TZOFFSETTO:-0500
TZNAME:EST
DTSTART:20211107T060000
END:STANDARD
BEGIN:DAYLIGHT
TZOFFSETFROM:-0500
TZOFFSETTO:-0400
TZNAME:EDT
DTSTART:20220313T070000
END:DAYLIGHT
BEGIN:STANDARD
TZOFFSETFROM:-0400
TZOFFSETTO:-0500
TZNAME:EST
DTSTART:20221106T060000
END:STANDARD
END:VTIMEZONE
BEGIN:VEVENT
DTSTART;TZID=America/New_York:20211015T080000
DTEND;TZID=America/New_York:20211015T170000
DTSTAMP:20260422T232410
CREATED:20210720T134155Z
LAST-MODIFIED:20210720T134155Z
UID:7996-1634284800-1634317200@www.wellingtonacademyschools.com
SUMMARY:Teacher In-Service Day - Wellington Closed
DESCRIPTION:
URL:https://www.wellingtonacademyschools.com/event/teacher-in-service-day-wellington-closed-28/
CATEGORIES:Fort Myers
END:VEVENT
BEGIN:VEVENT
DTSTART;TZID=America/New_York:20211022T190000
DTEND;TZID=America/New_York:20211022T203000
DTSTAMP:20260422T232410
CREATED:20210720T134242Z
LAST-MODIFIED:20210720T134242Z
UID:7998-1634929200-1634934600@www.wellingtonacademyschools.com
SUMMARY:Fall Festival
DESCRIPTION:
URL:https://www.wellingtonacademyschools.com/event/fall-festival-14/
CATEGORIES:Fort Myers
END:VEVENT
BEGIN:VEVENT
DTSTART;TZID=America/New_York:20211029T080000
DTEND;TZID=America/New_York:20211029T170000
DTSTAMP:20260422T232410
CREATED:20210720T134310Z
LAST-MODIFIED:20210720T134310Z
UID:8000-1635494400-1635526800@www.wellingtonacademyschools.com
SUMMARY:Progress Reports
DESCRIPTION:
URL:https://www.wellingtonacademyschools.com/event/progress-reports-33/
CATEGORIES:Fort Myers
END:VEVENT
END:VCALENDAR