BEGIN:VCALENDAR
VERSION:2.0
PRODID:-//Wellington Academy - ECPv6.15.20//NONSGML v1.0//EN
CALSCALE:GREGORIAN
METHOD:PUBLISH
X-ORIGINAL-URL:https://www.wellingtonacademyschools.com
X-WR-CALDESC:Events for Wellington Academy
REFRESH-INTERVAL;VALUE=DURATION:PT1H
X-Robots-Tag:noindex
X-PUBLISHED-TTL:PT1H
BEGIN:VTIMEZONE
TZID:America/New_York
BEGIN:DAYLIGHT
TZOFFSETFROM:-0500
TZOFFSETTO:-0400
TZNAME:EDT
DTSTART:20210314T070000
END:DAYLIGHT
BEGIN:STANDARD
TZOFFSETFROM:-0400
TZOFFSETTO:-0500
TZNAME:EST
DTSTART:20211107T060000
END:STANDARD
BEGIN:DAYLIGHT
TZOFFSETFROM:-0500
TZOFFSETTO:-0400
TZNAME:EDT
DTSTART:20220313T070000
END:DAYLIGHT
BEGIN:STANDARD
TZOFFSETFROM:-0400
TZOFFSETTO:-0500
TZNAME:EST
DTSTART:20221106T060000
END:STANDARD
BEGIN:DAYLIGHT
TZOFFSETFROM:-0500
TZOFFSETTO:-0400
TZNAME:EDT
DTSTART:20230312T070000
END:DAYLIGHT
BEGIN:STANDARD
TZOFFSETFROM:-0400
TZOFFSETTO:-0500
TZNAME:EST
DTSTART:20231105T060000
END:STANDARD
END:VTIMEZONE
BEGIN:VEVENT
DTSTART;TZID=America/New_York:20220103T080000
DTEND;TZID=America/New_York:20220103T170000
DTSTAMP:20260422T184457
CREATED:20210720T141209Z
LAST-MODIFIED:20210720T141209Z
UID:8022-1641196800-1641229200@www.wellingtonacademyschools.com
SUMMARY:VPK Returns
DESCRIPTION:
URL:https://www.wellingtonacademyschools.com/event/vpk-returns-3/
CATEGORIES:Fort Myers
END:VEVENT
BEGIN:VEVENT
DTSTART;VALUE=DATE:20220110
DTEND;VALUE=DATE:20220112
DTSTAMP:20260422T184457
CREATED:20210802T203217Z
LAST-MODIFIED:20210802T203217Z
UID:8334-1641772800-1641945599@www.wellingtonacademyschools.com
SUMMARY:No VPK - Teacher In-Service Day
DESCRIPTION:
URL:https://www.wellingtonacademyschools.com/event/no-vpk-teacher-in-service-day-2/
CATEGORIES:Fort Myers
END:VEVENT
BEGIN:VEVENT
DTSTART;TZID=America/New_York:20220114T080000
DTEND;TZID=America/New_York:20220114T170000
DTSTAMP:20260422T184457
CREATED:20210722T191835Z
LAST-MODIFIED:20210722T191835Z
UID:8028-1642147200-1642179600@www.wellingtonacademyschools.com
SUMMARY:Parent Appreciation Day
DESCRIPTION:
URL:https://www.wellingtonacademyschools.com/event/parent-appreciation-day-15/
CATEGORIES:Fort Myers
END:VEVENT
BEGIN:VEVENT
DTSTART;TZID=America/New_York:20220117T080000
DTEND;TZID=America/New_York:20220117T170000
DTSTAMP:20260422T184457
CREATED:20210722T192210Z
LAST-MODIFIED:20210722T192210Z
UID:8031-1642406400-1642438800@www.wellingtonacademyschools.com
SUMMARY:Teacher In-Service - Wellington Closed
DESCRIPTION:
URL:https://www.wellingtonacademyschools.com/event/teacher-in-service-wellington-closed/
CATEGORIES:Fort Myers
END:VEVENT
END:VCALENDAR