BEGIN:VCALENDAR
VERSION:2.0
PRODID:-//Wellington Academy - ECPv6.15.20//NONSGML v1.0//EN
CALSCALE:GREGORIAN
METHOD:PUBLISH
X-WR-CALNAME:Wellington Academy
X-ORIGINAL-URL:https://www.wellingtonacademyschools.com
X-WR-CALDESC:Events for Wellington Academy
REFRESH-INTERVAL;VALUE=DURATION:PT1H
X-Robots-Tag:noindex
X-PUBLISHED-TTL:PT1H
BEGIN:VTIMEZONE
TZID:America/New_York
BEGIN:DAYLIGHT
TZOFFSETFROM:-0500
TZOFFSETTO:-0400
TZNAME:EDT
DTSTART:20210314T070000
END:DAYLIGHT
BEGIN:STANDARD
TZOFFSETFROM:-0400
TZOFFSETTO:-0500
TZNAME:EST
DTSTART:20211107T060000
END:STANDARD
BEGIN:DAYLIGHT
TZOFFSETFROM:-0500
TZOFFSETTO:-0400
TZNAME:EDT
DTSTART:20220313T070000
END:DAYLIGHT
BEGIN:STANDARD
TZOFFSETFROM:-0400
TZOFFSETTO:-0500
TZNAME:EST
DTSTART:20221106T060000
END:STANDARD
BEGIN:DAYLIGHT
TZOFFSETFROM:-0500
TZOFFSETTO:-0400
TZNAME:EDT
DTSTART:20230312T070000
END:DAYLIGHT
BEGIN:STANDARD
TZOFFSETFROM:-0400
TZOFFSETTO:-0500
TZNAME:EST
DTSTART:20231105T060000
END:STANDARD
END:VTIMEZONE
BEGIN:VEVENT
DTSTART;TZID=America/New_York:20220301T080000
DTEND;TZID=America/New_York:20220301T170000
DTSTAMP:20260422T153348
CREATED:20210722T192702Z
LAST-MODIFIED:20210722T192702Z
UID:8035-1646121600-1646154000@www.wellingtonacademyschools.com
SUMMARY:School/VPK Pictures - TBD
DESCRIPTION:
URL:https://www.wellingtonacademyschools.com/event/school-vpk-pictures-tbd/
CATEGORIES:Fort Myers
END:VEVENT
BEGIN:VEVENT
DTSTART;TZID=America/New_York:20220318T080000
DTEND;TZID=America/New_York:20220325T170000
DTSTAMP:20260422T153348
CREATED:20210722T192844Z
LAST-MODIFIED:20210726T142417Z
UID:8037-1647590400-1648227600@www.wellingtonacademyschools.com
SUMMARY:Spring Break - No VPK
DESCRIPTION:
URL:https://www.wellingtonacademyschools.com/event/spring-break-no-vpk-10/
CATEGORIES:Fort Myers
END:VEVENT
END:VCALENDAR