BEGIN:VCALENDAR
VERSION:2.0
PRODID:-//Wellington Academy - ECPv6.15.20//NONSGML v1.0//EN
CALSCALE:GREGORIAN
METHOD:PUBLISH
X-ORIGINAL-URL:https://www.wellingtonacademyschools.com
X-WR-CALDESC:Events for Wellington Academy
REFRESH-INTERVAL;VALUE=DURATION:PT1H
X-Robots-Tag:noindex
X-PUBLISHED-TTL:PT1H
BEGIN:VTIMEZONE
TZID:America/New_York
BEGIN:DAYLIGHT
TZOFFSETFROM:-0500
TZOFFSETTO:-0400
TZNAME:EDT
DTSTART:20210314T070000
END:DAYLIGHT
BEGIN:STANDARD
TZOFFSETFROM:-0400
TZOFFSETTO:-0500
TZNAME:EST
DTSTART:20211107T060000
END:STANDARD
BEGIN:DAYLIGHT
TZOFFSETFROM:-0500
TZOFFSETTO:-0400
TZNAME:EDT
DTSTART:20220313T070000
END:DAYLIGHT
BEGIN:STANDARD
TZOFFSETFROM:-0400
TZOFFSETTO:-0500
TZNAME:EST
DTSTART:20221106T060000
END:STANDARD
BEGIN:DAYLIGHT
TZOFFSETFROM:-0500
TZOFFSETTO:-0400
TZNAME:EDT
DTSTART:20230312T070000
END:DAYLIGHT
BEGIN:STANDARD
TZOFFSETFROM:-0400
TZOFFSETTO:-0500
TZNAME:EST
DTSTART:20231105T060000
END:STANDARD
END:VTIMEZONE
BEGIN:VEVENT
DTSTART;TZID=America/New_York:20220411T080000
DTEND;TZID=America/New_York:20220414T170000
DTSTAMP:20260422T140325
CREATED:20210722T193321Z
LAST-MODIFIED:20210722T193321Z
UID:8039-1649664000-1649955600@www.wellingtonacademyschools.com
SUMMARY:Easter Activities
DESCRIPTION:
URL:https://www.wellingtonacademyschools.com/event/easter-activities-13/
CATEGORIES:Fort Myers
END:VEVENT
BEGIN:VEVENT
DTSTART;TZID=America/New_York:20220414T080000
DTEND;TZID=America/New_York:20220414T170000
DTSTAMP:20260422T140325
CREATED:20210722T193444Z
LAST-MODIFIED:20210722T193444Z
UID:8041-1649923200-1649955600@www.wellingtonacademyschools.com
SUMMARY:Easter Bonnet Parade
DESCRIPTION:
URL:https://www.wellingtonacademyschools.com/event/easter-bonnet-parade-9/
CATEGORIES:Fort Myers
END:VEVENT
BEGIN:VEVENT
DTSTART;TZID=America/New_York:20220415T080000
DTEND;TZID=America/New_York:20220415T170000
DTSTAMP:20260422T140325
CREATED:20210722T194217Z
LAST-MODIFIED:20210722T194217Z
UID:8043-1650009600-1650042000@www.wellingtonacademyschools.com
SUMMARY:Teacher In-Service Day - Wellington Closed
DESCRIPTION:
URL:https://www.wellingtonacademyschools.com/event/teacher-in-service-day-wellington-closed-29/
CATEGORIES:Fort Myers
END:VEVENT
BEGIN:VEVENT
DTSTART;TZID=America/New_York:20220418T080000
DTEND;TZID=America/New_York:20220418T170000
DTSTAMP:20260422T140325
CREATED:20210722T194515Z
LAST-MODIFIED:20210722T194515Z
UID:8045-1650268800-1650301200@www.wellingtonacademyschools.com
SUMMARY:Easter Monday - No VPK
DESCRIPTION:
URL:https://www.wellingtonacademyschools.com/event/easter-monday-no-vpk-4/
CATEGORIES:Fort Myers
END:VEVENT
END:VCALENDAR