BEGIN:VCALENDAR
VERSION:2.0
PRODID:-//Wellington Academy - ECPv6.15.20//NONSGML v1.0//EN
CALSCALE:GREGORIAN
METHOD:PUBLISH
X-WR-CALNAME:Wellington Academy
X-ORIGINAL-URL:https://www.wellingtonacademyschools.com
X-WR-CALDESC:Events for Wellington Academy
REFRESH-INTERVAL;VALUE=DURATION:PT1H
X-Robots-Tag:noindex
X-PUBLISHED-TTL:PT1H
BEGIN:VTIMEZONE
TZID:America/New_York
BEGIN:DAYLIGHT
TZOFFSETFROM:-0500
TZOFFSETTO:-0400
TZNAME:EDT
DTSTART:20210314T070000
END:DAYLIGHT
BEGIN:STANDARD
TZOFFSETFROM:-0400
TZOFFSETTO:-0500
TZNAME:EST
DTSTART:20211107T060000
END:STANDARD
BEGIN:DAYLIGHT
TZOFFSETFROM:-0500
TZOFFSETTO:-0400
TZNAME:EDT
DTSTART:20220313T070000
END:DAYLIGHT
BEGIN:STANDARD
TZOFFSETFROM:-0400
TZOFFSETTO:-0500
TZNAME:EST
DTSTART:20221106T060000
END:STANDARD
BEGIN:DAYLIGHT
TZOFFSETFROM:-0500
TZOFFSETTO:-0400
TZNAME:EDT
DTSTART:20230312T070000
END:DAYLIGHT
BEGIN:STANDARD
TZOFFSETFROM:-0400
TZOFFSETTO:-0500
TZNAME:EST
DTSTART:20231105T060000
END:STANDARD
END:VTIMEZONE
BEGIN:VEVENT
DTSTART;TZID=America/New_York:20220502T080000
DTEND;TZID=America/New_York:20220506T170000
DTSTAMP:20260422T121440
CREATED:20210714T181356Z
LAST-MODIFIED:20210714T181356Z
UID:7887-1651478400-1651856400@www.wellingtonacademyschools.com
SUMMARY:Teacher Appreciation Week
DESCRIPTION:
URL:https://www.wellingtonacademyschools.com/event/teacher-appreciation-week-5/
CATEGORIES:Clermont,Fort Myers,North Cape Coral,Palm Bay,South Cape Coral
END:VEVENT
BEGIN:VEVENT
DTSTART;TZID=America/New_York:20220505T080000
DTEND;TZID=America/New_York:20220506T170000
DTSTAMP:20260422T121440
CREATED:20210722T194825Z
LAST-MODIFIED:20210722T194825Z
UID:8049-1651737600-1651856400@www.wellingtonacademyschools.com
SUMMARY:Mother's Day Celebrations
DESCRIPTION:
URL:https://www.wellingtonacademyschools.com/event/mothers-day-celebrations-14/
CATEGORIES:Fort Myers
END:VEVENT
BEGIN:VEVENT
DTSTART;VALUE=DATE:20220516
DTEND;VALUE=DATE:20220517
DTSTAMP:20260422T121440
CREATED:20210727T171241Z
LAST-MODIFIED:20210727T171241Z
UID:8290-1652659200-1652745599@www.wellingtonacademyschools.com
SUMMARY:VPK Graduation - T.B.A.
DESCRIPTION:
URL:https://www.wellingtonacademyschools.com/event/vpk-graduation-t-b-a-4/
CATEGORIES:Fort Myers,North Cape Coral,South Cape Coral
END:VEVENT
BEGIN:VEVENT
DTSTART;TZID=America/New_York:20220527T080000
DTEND;TZID=America/New_York:20220527T170000
DTSTAMP:20260422T121440
CREATED:20210722T194911Z
LAST-MODIFIED:20210722T194911Z
UID:8051-1653638400-1653670800@www.wellingtonacademyschools.com
SUMMARY:Progress Reports
DESCRIPTION:
URL:https://www.wellingtonacademyschools.com/event/progress-reports-34/
CATEGORIES:Fort Myers
END:VEVENT
BEGIN:VEVENT
DTSTART;TZID=America/New_York:20220530T080000
DTEND;TZID=America/New_York:20220530T170000
DTSTAMP:20260422T121440
CREATED:20210722T195033Z
LAST-MODIFIED:20210722T195033Z
UID:8053-1653897600-1653930000@www.wellingtonacademyschools.com
SUMMARY:Memorial Day - Wellington Closed
DESCRIPTION:
URL:https://www.wellingtonacademyschools.com/event/memorial-day-wellington-closed-5/
CATEGORIES:Fort Myers
END:VEVENT
END:VCALENDAR