BEGIN:VCALENDAR
VERSION:2.0
PRODID:-//Wellington Academy - ECPv6.15.20//NONSGML v1.0//EN
CALSCALE:GREGORIAN
METHOD:PUBLISH
X-ORIGINAL-URL:https://www.wellingtonacademyschools.com
X-WR-CALDESC:Events for Wellington Academy
REFRESH-INTERVAL;VALUE=DURATION:PT1H
X-Robots-Tag:noindex
X-PUBLISHED-TTL:PT1H
BEGIN:VTIMEZONE
TZID:America/New_York
BEGIN:DAYLIGHT
TZOFFSETFROM:-0500
TZOFFSETTO:-0400
TZNAME:EDT
DTSTART:20210314T070000
END:DAYLIGHT
BEGIN:STANDARD
TZOFFSETFROM:-0400
TZOFFSETTO:-0500
TZNAME:EST
DTSTART:20211107T060000
END:STANDARD
BEGIN:DAYLIGHT
TZOFFSETFROM:-0500
TZOFFSETTO:-0400
TZNAME:EDT
DTSTART:20220313T070000
END:DAYLIGHT
BEGIN:STANDARD
TZOFFSETFROM:-0400
TZOFFSETTO:-0500
TZNAME:EST
DTSTART:20221106T060000
END:STANDARD
BEGIN:DAYLIGHT
TZOFFSETFROM:-0500
TZOFFSETTO:-0400
TZNAME:EDT
DTSTART:20230312T070000
END:DAYLIGHT
BEGIN:STANDARD
TZOFFSETFROM:-0400
TZOFFSETTO:-0500
TZNAME:EST
DTSTART:20231105T060000
END:STANDARD
END:VTIMEZONE
BEGIN:VEVENT
DTSTART;TZID=America/New_York:20221005T080000
DTEND;TZID=America/New_York:20221005T170000
DTSTAMP:20260422T040217
CREATED:20220701T150748Z
LAST-MODIFIED:20220701T163351Z
UID:8661-1664956800-1664989200@www.wellingtonacademyschools.com
SUMMARY:NO VPK - Yom Kippur
DESCRIPTION:
URL:https://www.wellingtonacademyschools.com/event/no-vpk-yom-kippur-3/
CATEGORIES:Fort Myers,South Cape Coral
END:VEVENT
BEGIN:VEVENT
DTSTART;TZID=America/New_York:20221014T080000
DTEND;TZID=America/New_York:20221014T170000
DTSTAMP:20260422T040217
CREATED:20220701T150852Z
LAST-MODIFIED:20220701T163340Z
UID:8663-1665734400-1665766800@www.wellingtonacademyschools.com
SUMMARY:In-Service Day - Wellington Schools Closed
DESCRIPTION:
URL:https://www.wellingtonacademyschools.com/event/in-service-day-wellington-schools-closed/
CATEGORIES:Fort Myers,South Cape Coral
END:VEVENT
BEGIN:VEVENT
DTSTART;TZID=America/New_York:20221021T190000
DTEND;TZID=America/New_York:20221021T203000
DTSTAMP:20260422T040217
CREATED:20220701T151020Z
LAST-MODIFIED:20220701T163324Z
UID:8665-1666378800-1666384200@www.wellingtonacademyschools.com
SUMMARY:Fall Festival
DESCRIPTION:
URL:https://www.wellingtonacademyschools.com/event/fall-festival-17/
CATEGORIES:Fort Myers,South Cape Coral
END:VEVENT
BEGIN:VEVENT
DTSTART;TZID=America/New_York:20221028T080000
DTEND;TZID=America/New_York:20221028T170000
DTSTAMP:20260422T040217
CREATED:20220701T151054Z
LAST-MODIFIED:20220701T163313Z
UID:8667-1666944000-1666976400@www.wellingtonacademyschools.com
SUMMARY:Progress Reports
DESCRIPTION:
URL:https://www.wellingtonacademyschools.com/event/progress-reports-39/
CATEGORIES:Fort Myers,South Cape Coral
END:VEVENT
END:VCALENDAR