BEGIN:VCALENDAR
VERSION:2.0
PRODID:-//Wellington Academy - ECPv6.15.20//NONSGML v1.0//EN
CALSCALE:GREGORIAN
METHOD:PUBLISH
X-WR-CALNAME:Wellington Academy
X-ORIGINAL-URL:https://www.wellingtonacademyschools.com
X-WR-CALDESC:Events for Wellington Academy
REFRESH-INTERVAL;VALUE=DURATION:PT1H
X-Robots-Tag:noindex
X-PUBLISHED-TTL:PT1H
BEGIN:VTIMEZONE
TZID:America/New_York
BEGIN:DAYLIGHT
TZOFFSETFROM:-0500
TZOFFSETTO:-0400
TZNAME:EDT
DTSTART:20220313T070000
END:DAYLIGHT
BEGIN:STANDARD
TZOFFSETFROM:-0400
TZOFFSETTO:-0500
TZNAME:EST
DTSTART:20221106T060000
END:STANDARD
BEGIN:DAYLIGHT
TZOFFSETFROM:-0500
TZOFFSETTO:-0400
TZNAME:EDT
DTSTART:20230312T070000
END:DAYLIGHT
BEGIN:STANDARD
TZOFFSETFROM:-0400
TZOFFSETTO:-0500
TZNAME:EST
DTSTART:20231105T060000
END:STANDARD
BEGIN:DAYLIGHT
TZOFFSETFROM:-0500
TZOFFSETTO:-0400
TZNAME:EDT
DTSTART:20240310T070000
END:DAYLIGHT
BEGIN:STANDARD
TZOFFSETFROM:-0400
TZOFFSETTO:-0500
TZNAME:EST
DTSTART:20241103T060000
END:STANDARD
END:VTIMEZONE
BEGIN:VEVENT
DTSTART;TZID=America/New_York:20230501T080000
DTEND;TZID=America/New_York:20230505T170000
DTSTAMP:20260423T164422
CREATED:20220701T194404Z
LAST-MODIFIED:20220701T194404Z
UID:8809-1682928000-1683306000@www.wellingtonacademyschools.com
SUMMARY:Teacher Appreciation Week
DESCRIPTION:
URL:https://www.wellingtonacademyschools.com/event/teacher-appreciation-week-8/
CATEGORIES:North Cape Coral
END:VEVENT
BEGIN:VEVENT
DTSTART;TZID=America/New_York:20230512T080000
DTEND;TZID=America/New_York:20230512T170000
DTSTAMP:20260423T164422
CREATED:20220701T194440Z
LAST-MODIFIED:20220701T194440Z
UID:8811-1683878400-1683910800@www.wellingtonacademyschools.com
SUMMARY:Mother's Day Celebration
DESCRIPTION:
URL:https://www.wellingtonacademyschools.com/event/mothers-day-celebration-3/
CATEGORIES:North Cape Coral
END:VEVENT
BEGIN:VEVENT
DTSTART;TZID=America/New_York:20230526T080000
DTEND;TZID=America/New_York:20230526T170000
DTSTAMP:20260423T164422
CREATED:20220701T194508Z
LAST-MODIFIED:20220701T194508Z
UID:8813-1685088000-1685120400@www.wellingtonacademyschools.com
SUMMARY:Progress Reports
DESCRIPTION:
URL:https://www.wellingtonacademyschools.com/event/progress-reports-42/
CATEGORIES:North Cape Coral
END:VEVENT
BEGIN:VEVENT
DTSTART;VALUE=DATE:20230529
DTEND;VALUE=DATE:20230530
DTSTAMP:20260423T164422
CREATED:20220701T194548Z
LAST-MODIFIED:20220701T194548Z
UID:8815-1685318400-1685404799@www.wellingtonacademyschools.com
SUMMARY:Memorial Day - Wellington Schools Closed
DESCRIPTION:
URL:https://www.wellingtonacademyschools.com/event/memorial-day-wellington-schools-closed-3/
CATEGORIES:North Cape Coral
END:VEVENT
END:VCALENDAR