BEGIN:VCALENDAR
VERSION:2.0
PRODID:-//Wellington Academy - ECPv6.15.20//NONSGML v1.0//EN
CALSCALE:GREGORIAN
METHOD:PUBLISH
X-ORIGINAL-URL:https://www.wellingtonacademyschools.com
X-WR-CALDESC:Events for Wellington Academy
REFRESH-INTERVAL;VALUE=DURATION:PT1H
X-Robots-Tag:noindex
X-PUBLISHED-TTL:PT1H
BEGIN:VTIMEZONE
TZID:America/New_York
BEGIN:DAYLIGHT
TZOFFSETFROM:-0500
TZOFFSETTO:-0400
TZNAME:EDT
DTSTART:20170312T070000
END:DAYLIGHT
BEGIN:STANDARD
TZOFFSETFROM:-0400
TZOFFSETTO:-0500
TZNAME:EST
DTSTART:20171105T060000
END:STANDARD
BEGIN:DAYLIGHT
TZOFFSETFROM:-0500
TZOFFSETTO:-0400
TZNAME:EDT
DTSTART:20180311T070000
END:DAYLIGHT
BEGIN:STANDARD
TZOFFSETFROM:-0400
TZOFFSETTO:-0500
TZNAME:EST
DTSTART:20181104T060000
END:STANDARD
BEGIN:DAYLIGHT
TZOFFSETFROM:-0500
TZOFFSETTO:-0400
TZNAME:EDT
DTSTART:20190310T070000
END:DAYLIGHT
BEGIN:STANDARD
TZOFFSETFROM:-0400
TZOFFSETTO:-0500
TZNAME:EST
DTSTART:20191103T060000
END:STANDARD
END:VTIMEZONE
BEGIN:VEVENT
DTSTART;TZID=America/New_York:20180501T080000
DTEND;TZID=America/New_York:20180501T170000
DTSTAMP:20260422T153507
CREATED:20171102T191419Z
LAST-MODIFIED:20171102T191419Z
UID:5681-1525161600-1525194000@www.wellingtonacademyschools.com
SUMMARY:VPK Graduation TBA
DESCRIPTION:VPK Graduation TBA
URL:https://www.wellingtonacademyschools.com/event/vpk-graduation-tba/
CATEGORIES:Fort Myers,North Cape Coral,South Cape Coral
END:VEVENT
BEGIN:VEVENT
DTSTART;TZID=America/New_York:20180507T080000
DTEND;TZID=America/New_York:20180511T170000
DTSTAMP:20260422T153507
CREATED:20171027T213118Z
LAST-MODIFIED:20171027T213118Z
UID:5585-1525680000-1526058000@www.wellingtonacademyschools.com
SUMMARY:Teacher Appreciation Week
DESCRIPTION:Teacher Appreciation Week
URL:https://www.wellingtonacademyschools.com/event/teacher-appreciation-week/
CATEGORIES:Clermont,Fort Myers,North Cape Coral,Palm Bay,South Cape Coral
END:VEVENT
BEGIN:VEVENT
DTSTART;TZID=America/New_York:20180511T080000
DTEND;TZID=America/New_York:20180511T170000
DTSTAMP:20260422T153507
CREATED:20171027T215543Z
LAST-MODIFIED:20171027T215543Z
UID:5587-1526025600-1526058000@www.wellingtonacademyschools.com
SUMMARY:Mother's Day Celebration
DESCRIPTION:Mother’s Day Celebration
URL:https://www.wellingtonacademyschools.com/event/mothers-day-celebration/
CATEGORIES:Clermont,Fort Myers,North Cape Coral,Palm Bay,South Cape Coral
END:VEVENT
BEGIN:VEVENT
DTSTART;TZID=America/New_York:20180525T080000
DTEND;TZID=America/New_York:20180525T170000
DTSTAMP:20260422T153507
CREATED:20171027T215840Z
LAST-MODIFIED:20171027T215840Z
UID:5591-1527235200-1527267600@www.wellingtonacademyschools.com
SUMMARY:Progress Reports
DESCRIPTION:Progress Reports
URL:https://www.wellingtonacademyschools.com/event/progress-reports-3/
CATEGORIES:Clermont,Fort Myers,South Cape Coral
END:VEVENT
BEGIN:VEVENT
DTSTART;TZID=America/New_York:20180528T080000
DTEND;TZID=America/New_York:20180528T170000
DTSTAMP:20260422T153507
CREATED:20171027T220216Z
LAST-MODIFIED:20171027T220216Z
UID:5599-1527494400-1527526800@www.wellingtonacademyschools.com
SUMMARY:Memorial Day - Wellington Closed
DESCRIPTION:Memorial Day – Wellington Closed
URL:https://www.wellingtonacademyschools.com/event/memorial-day-wellington-closed/
CATEGORIES:Clermont,Fort Myers,North Cape Coral,Palm Bay,South Cape Coral
END:VEVENT
BEGIN:VEVENT
DTSTART;TZID=America/New_York:20180530T080000
DTEND;TZID=America/New_York:20180530T170000
DTSTAMP:20260422T153507
CREATED:20171027T220024Z
LAST-MODIFIED:20171027T220024Z
UID:5595-1527667200-1527699600@www.wellingtonacademyschools.com
SUMMARY:Last Day of VPK
DESCRIPTION:Last Day of VPK
URL:https://www.wellingtonacademyschools.com/event/last-day-of-vpk-2/
CATEGORIES:Fort Myers,North Cape Coral,South Cape Coral
END:VEVENT
END:VCALENDAR