BEGIN:VCALENDAR
VERSION:2.0
PRODID:-//Wellington Academy - ECPv6.15.20//NONSGML v1.0//EN
CALSCALE:GREGORIAN
METHOD:PUBLISH
X-WR-CALNAME:Wellington Academy
X-ORIGINAL-URL:https://www.wellingtonacademyschools.com
X-WR-CALDESC:Events for Wellington Academy
REFRESH-INTERVAL;VALUE=DURATION:PT1H
X-Robots-Tag:noindex
X-PUBLISHED-TTL:PT1H
BEGIN:VTIMEZONE
TZID:America/New_York
BEGIN:DAYLIGHT
TZOFFSETFROM:-0500
TZOFFSETTO:-0400
TZNAME:EDT
DTSTART:20170312T070000
END:DAYLIGHT
BEGIN:STANDARD
TZOFFSETFROM:-0400
TZOFFSETTO:-0500
TZNAME:EST
DTSTART:20171105T060000
END:STANDARD
BEGIN:DAYLIGHT
TZOFFSETFROM:-0500
TZOFFSETTO:-0400
TZNAME:EDT
DTSTART:20180311T070000
END:DAYLIGHT
BEGIN:STANDARD
TZOFFSETFROM:-0400
TZOFFSETTO:-0500
TZNAME:EST
DTSTART:20181104T060000
END:STANDARD
BEGIN:DAYLIGHT
TZOFFSETFROM:-0500
TZOFFSETTO:-0400
TZNAME:EDT
DTSTART:20190310T070000
END:DAYLIGHT
BEGIN:STANDARD
TZOFFSETFROM:-0400
TZOFFSETTO:-0500
TZNAME:EST
DTSTART:20191103T060000
END:STANDARD
END:VTIMEZONE
BEGIN:VEVENT
DTSTART;VALUE=DATE:20180903
DTEND;VALUE=DATE:20180904
DTSTAMP:20260422T090145
CREATED:20180914T143208Z
LAST-MODIFIED:20180914T143208Z
UID:6013-1535932800-1536019199@www.wellingtonacademyschools.com
SUMMARY:Wellington Closed- Labor Day
DESCRIPTION:Wellington Closed- Labor Day
URL:https://www.wellingtonacademyschools.com/event/wellington-closed-labor-day/
CATEGORIES:Clermont,Fort Myers,North Cape Coral,Palm Bay,South Cape Coral
END:VEVENT
BEGIN:VEVENT
DTSTART;VALUE=DATE:20180907
DTEND;VALUE=DATE:20180908
DTSTAMP:20260422T090145
CREATED:20180914T143411Z
LAST-MODIFIED:20180914T143411Z
UID:6017-1536278400-1536364799@www.wellingtonacademyschools.com
SUMMARY:Grandparent's Day Celebration
DESCRIPTION:Grandparent’s Day Celebration
URL:https://www.wellingtonacademyschools.com/event/grandparents-day-celebration-3/
CATEGORIES:Clermont,Fort Myers,North Cape Coral,Palm Bay,South Cape Coral
END:VEVENT
BEGIN:VEVENT
DTSTART;VALUE=DATE:20180910
DTEND;VALUE=DATE:20180911
DTSTAMP:20260422T090145
CREATED:20180914T143539Z
LAST-MODIFIED:20180914T143539Z
UID:6019-1536537600-1536623999@www.wellingtonacademyschools.com
SUMMARY:No VPK- Rosh Hashanah
DESCRIPTION:No VPK- Rosh Hashanah
URL:https://www.wellingtonacademyschools.com/event/no-vpk-rosh-hashanah/
CATEGORIES:Fort Myers,North Cape Coral,South Cape Coral
END:VEVENT
BEGIN:VEVENT
DTSTART;TZID=America/New_York:20180914T190000
DTEND;TZID=America/New_York:20180914T200000
DTSTAMP:20260422T090145
CREATED:20180914T143707Z
LAST-MODIFIED:20180914T143707Z
UID:6021-1536951600-1536955200@www.wellingtonacademyschools.com
SUMMARY:Parent Orientation
DESCRIPTION:Parent Orientation
URL:https://www.wellingtonacademyschools.com/event/parent-orientation-5/
CATEGORIES:South Cape Coral
END:VEVENT
END:VCALENDAR