BEGIN:VCALENDAR
VERSION:2.0
PRODID:-//Wellington Academy - ECPv6.15.20//NONSGML v1.0//EN
CALSCALE:GREGORIAN
METHOD:PUBLISH
X-WR-CALNAME:Wellington Academy
X-ORIGINAL-URL:https://www.wellingtonacademyschools.com
X-WR-CALDESC:Events for Wellington Academy
REFRESH-INTERVAL;VALUE=DURATION:PT1H
X-Robots-Tag:noindex
X-PUBLISHED-TTL:PT1H
BEGIN:VTIMEZONE
TZID:America/New_York
BEGIN:DAYLIGHT
TZOFFSETFROM:-0500
TZOFFSETTO:-0400
TZNAME:EDT
DTSTART:20180311T070000
END:DAYLIGHT
BEGIN:STANDARD
TZOFFSETFROM:-0400
TZOFFSETTO:-0500
TZNAME:EST
DTSTART:20181104T060000
END:STANDARD
BEGIN:DAYLIGHT
TZOFFSETFROM:-0500
TZOFFSETTO:-0400
TZNAME:EDT
DTSTART:20190310T070000
END:DAYLIGHT
BEGIN:STANDARD
TZOFFSETFROM:-0400
TZOFFSETTO:-0500
TZNAME:EST
DTSTART:20191103T060000
END:STANDARD
BEGIN:DAYLIGHT
TZOFFSETFROM:-0500
TZOFFSETTO:-0400
TZNAME:EDT
DTSTART:20200308T070000
END:DAYLIGHT
BEGIN:STANDARD
TZOFFSETFROM:-0400
TZOFFSETTO:-0500
TZNAME:EST
DTSTART:20201101T060000
END:STANDARD
END:VTIMEZONE
BEGIN:VEVENT
DTSTART;VALUE=DATE:20190506
DTEND;VALUE=DATE:20190511
DTSTAMP:20260422T054511
CREATED:20180914T181103Z
LAST-MODIFIED:20180914T181103Z
UID:6158-1557100800-1557532799@www.wellingtonacademyschools.com
SUMMARY:Teacher Appreciation Week
DESCRIPTION:Teacher Appreciation Week
URL:https://www.wellingtonacademyschools.com/event/teacher-appreciation-week-2/
CATEGORIES:Clermont,Fort Myers,North Cape Coral,Palm Bay,South Cape Coral
END:VEVENT
BEGIN:VEVENT
DTSTART;VALUE=DATE:20190510
DTEND;VALUE=DATE:20190511
DTSTAMP:20260422T054511
CREATED:20180914T181325Z
LAST-MODIFIED:20180914T181325Z
UID:6163-1557446400-1557532799@www.wellingtonacademyschools.com
SUMMARY:Mother's Day Celebrations
DESCRIPTION:Mother’s Day Celebrations
URL:https://www.wellingtonacademyschools.com/event/mothers-day-celebrations/
CATEGORIES:Clermont,South Cape Coral
END:VEVENT
BEGIN:VEVENT
DTSTART;VALUE=DATE:20190524
DTEND;VALUE=DATE:20190525
DTSTAMP:20260422T054511
CREATED:20180914T181559Z
LAST-MODIFIED:20180914T181559Z
UID:6169-1558656000-1558742399@www.wellingtonacademyschools.com
SUMMARY:Progress Reports
DESCRIPTION:Progress Reports
URL:https://www.wellingtonacademyschools.com/event/progress-reports-8/
CATEGORIES:Clermont,Fort Myers,Palm Bay,South Cape Coral
END:VEVENT
BEGIN:VEVENT
DTSTART;VALUE=DATE:20190527
DTEND;VALUE=DATE:20190528
DTSTAMP:20260422T054511
CREATED:20180914T181821Z
LAST-MODIFIED:20180914T181821Z
UID:6173-1558915200-1559001599@www.wellingtonacademyschools.com
SUMMARY:Wellington Closed- Memorial Day
DESCRIPTION:Wellington Closed- Memorial Day
URL:https://www.wellingtonacademyschools.com/event/wellington-closed-memorial-day/
CATEGORIES:Clermont,Fort Myers,North Cape Coral,Palm Bay,South Cape Coral
END:VEVENT
BEGIN:VEVENT
DTSTART;VALUE=DATE:20190530
DTEND;VALUE=DATE:20190531
DTSTAMP:20260422T054511
CREATED:20180914T181927Z
LAST-MODIFIED:20180914T181927Z
UID:6175-1559174400-1559260799@www.wellingtonacademyschools.com
SUMMARY:Last Day of VPK
DESCRIPTION:Last Day of VPK
URL:https://www.wellingtonacademyschools.com/event/last-day-of-vpk-5/
CATEGORIES:Fort Myers,North Cape Coral,South Cape Coral
END:VEVENT
END:VCALENDAR